BEGIN:VCALENDAR
VERSION:2.0
PRODID:icalendar-ruby
CALSCALE:GREGORIAN
METHOD:PUBLISH
BEGIN:VEVENT
DTSTAMP:20260420T035458Z
UID:20-1561333@crenshawumc.net
DTSTART:20260531T130000Z
DTEND:20260531T140000Z
CLASS:PUBLIC
CREATED:20260416T154008
DESCRIPTION:
LAST-MODIFIED:20260416T154008
LOCATION:Crenshaw United Methodist Church 
SUMMARY:5th Sunday Breakfast
URL;VALUE=URI:https://crenshawumc.net/events/5th-sunday-breakfast/2026-05-3
 1
END:VEVENT
END:VCALENDAR
