BEGIN:VCALENDAR
VERSION:2.0
PRODID:icalendar-ruby
CALSCALE:GREGORIAN
METHOD:PUBLISH
BEGIN:VEVENT
DTSTAMP:20260424T012336Z
UID:11-1564912@crenshawumc.net
DTSTART:20261027T113000Z
DTEND:20261027T120000Z
CLASS:PUBLIC
CREATED:20260423T202732
DESCRIPTION:
LAST-MODIFIED:20260423T202732
LOCATION:Sanctuary
SUMMARY:Crenshaw Prayer Group
URL;VALUE=URI:https://crenshawumc.net/events/crenshaw-prayer-group/2026-10-
 27
ATTACH;FILENAME=IMG_9578-%281%29.JPG;FMTTYPE=image/jpeg:https://dq5pwpg1q8r
 u0.cloudfront.net/2025/11/04/19/24/22/dd6b97cc-d204-4583-906a-fb2ca4da3436
 /IMG_9578-%25281%2529.JPG
END:VEVENT
END:VCALENDAR
