BEGIN:VCALENDAR
VERSION:2.0
PRODID:icalendar-ruby
CALSCALE:GREGORIAN
METHOD:PUBLISH
BEGIN:VEVENT
DTSTAMP:20260420T035334Z
UID:21-1561334@crenshawumc.net
DTSTART:20260524T140000Z
DTEND:20260524T150000Z
CLASS:PUBLIC
CREATED:20260416T154103
DESCRIPTION:
LAST-MODIFIED:20260416T154103
LOCATION:Crenshaw United Methodist Church 
SUMMARY:Graduate Recognition Sunday
URL;VALUE=URI:https://crenshawumc.net/events/graduate-recognition-sunday/20
 26-05-24
END:VEVENT
END:VCALENDAR
